BEGIN:VCALENDAR
VERSION:2.0
PRODID:-//Ahlbecker Karneval Klub e.V. - ECPv6.15.20//NONSGML v1.0//EN
CALSCALE:GREGORIAN
METHOD:PUBLISH
X-WR-CALNAME:Ahlbecker Karneval Klub e.V.
X-ORIGINAL-URL:https://www.suffel-saffel.de
X-WR-CALDESC:Veranstaltungen für Ahlbecker Karneval Klub e.V.
REFRESH-INTERVAL;VALUE=DURATION:PT1H
X-Robots-Tag:noindex
X-PUBLISHED-TTL:PT1H
BEGIN:VTIMEZONE
TZID:Europe/Paris
BEGIN:DAYLIGHT
TZOFFSETFROM:+0100
TZOFFSETTO:+0200
TZNAME:CEST
DTSTART:20220327T010000
END:DAYLIGHT
BEGIN:STANDARD
TZOFFSETFROM:+0200
TZOFFSETTO:+0100
TZNAME:CET
DTSTART:20221030T010000
END:STANDARD
BEGIN:DAYLIGHT
TZOFFSETFROM:+0100
TZOFFSETTO:+0200
TZNAME:CEST
DTSTART:20230326T010000
END:DAYLIGHT
BEGIN:STANDARD
TZOFFSETFROM:+0200
TZOFFSETTO:+0100
TZNAME:CET
DTSTART:20231029T010000
END:STANDARD
BEGIN:DAYLIGHT
TZOFFSETFROM:+0100
TZOFFSETTO:+0200
TZNAME:CEST
DTSTART:20240331T010000
END:DAYLIGHT
BEGIN:STANDARD
TZOFFSETFROM:+0200
TZOFFSETTO:+0100
TZNAME:CET
DTSTART:20241027T010000
END:STANDARD
BEGIN:DAYLIGHT
TZOFFSETFROM:+0100
TZOFFSETTO:+0200
TZNAME:CEST
DTSTART:20250330T010000
END:DAYLIGHT
BEGIN:STANDARD
TZOFFSETFROM:+0200
TZOFFSETTO:+0100
TZNAME:CET
DTSTART:20251026T010000
END:STANDARD
BEGIN:DAYLIGHT
TZOFFSETFROM:+0100
TZOFFSETTO:+0200
TZNAME:CEST
DTSTART:20260329T010000
END:DAYLIGHT
BEGIN:STANDARD
TZOFFSETFROM:+0200
TZOFFSETTO:+0100
TZNAME:CET
DTSTART:20261025T010000
END:STANDARD
BEGIN:DAYLIGHT
TZOFFSETFROM:+0100
TZOFFSETTO:+0200
TZNAME:CEST
DTSTART:20270328T010000
END:DAYLIGHT
BEGIN:STANDARD
TZOFFSETFROM:+0200
TZOFFSETTO:+0100
TZNAME:CET
DTSTART:20271031T010000
END:STANDARD
END:VTIMEZONE
BEGIN:VEVENT
DTSTART;TZID=Europe/Paris:20260201T140000
DTEND;TZID=Europe/Paris:20260201T183000
DTSTAMP:20260420T120455
CREATED:20260110T110836Z
LAST-MODIFIED:20260110T110836Z
UID:635-1769954400-1769970600@www.suffel-saffel.de
SUMMARY:Rentnerfasching - Ganz Ahlbeck außer Rand und Band - der AKK in Mafiahand
DESCRIPTION:Der Ahlbecker Karneval Klub lädt euch zu einem stimmungsvollen Veranstaltungswochenende unter dem Motto„Ganz Ahlbeck außer Rand und Band – der AKK in Mafiahand“ ein.Freut euch auf drei Tage Karneval\, gute Unterhaltung und beste AKK-Atmosphäre! 🎉 \n📅 Freitag\, 30.01. & Samstag\, 31.01.2026🕖 Einlass ab 19:00 Uhr | Beginn 20:11 Uhr \n📅 Sonntag\, 01.02.2026 – Rentnerkarneval🕒 Beginn 15:00 Uhr \nErlebt ein abwechslungsreiches Programm\, gute Stimmung und karnevalistische Abende ganz im Zeichen unseres diesjährigen Mottos. 🥳🎭 \n🎟 Tickets:👉 Karten für alle drei Tage erhaltet ihr wie gewohnt über unsere Mitglieder. \nWir freuen uns auf euch – und auf ein Wochenende\, an dem Ahlbeck karnevalistisch außer Rand und Band gerät! 🎉🥂 \n#AhlbeckerKarnevalKlub #AKK #Karneval2026 #MafiaMotto #Ahlbeck #Karnevalswochenende
URL:https://www.suffel-saffel.de/event/rentnerfasching-ganz-ahlbeck-ausser-rand-und-band-der-akk-in-mafiahand/
LOCATION:Hotel Esplanade\, Seestraße 5\, Seebad Heringsdorf\, MV\, 17424\, Deutschland
CATEGORIES:Veranstaltungen
ATTACH;FMTTYPE=image/jpeg:https://www.suffel-saffel.de/wp-content/uploads/2026/01/Albecker_Karneval_2026-FB-RGB-scaled.jpg
END:VEVENT
BEGIN:VEVENT
DTSTART;TZID=Europe/Paris:20260131T190000
DTEND;TZID=Europe/Paris:20260201T030000
DTSTAMP:20260420T120455
CREATED:20260110T110716Z
LAST-MODIFIED:20260110T110716Z
UID:632-1769886000-1769914800@www.suffel-saffel.de
SUMMARY:Ganz Ahlbeck außer Rand und Band - Der AKK in Mafiahand
DESCRIPTION:Der Ahlbecker Karneval Klub lädt euch zu einem stimmungsvollen Veranstaltungswochenende unter dem Motto„Ganz Ahlbeck außer Rand und Band – der AKK in Mafiahand“ ein.Freut euch auf drei Tage Karneval\, gute Unterhaltung und beste AKK-Atmosphäre! 🎉 \n📅 Freitag\, 30.01. & Samstag\, 31.01.2026🕖 Einlass ab 19:00 Uhr | Beginn 20:11 Uhr \n📅 Sonntag\, 01.02.2026 – Rentnerkarneval🕒 Beginn 15:00 Uhr \nErlebt ein abwechslungsreiches Programm\, gute Stimmung und karnevalistische Abende ganz im Zeichen unseres diesjährigen Mottos. 🥳🎭 \n🎟 Tickets:👉 Karten für alle drei Tage erhaltet ihr wie gewohnt über unsere Mitglieder. \nWir freuen uns auf euch – und auf ein Wochenende\, an dem Ahlbeck karnevalistisch außer Rand und Band gerät! 🎉🥂 \n#AhlbeckerKarnevalKlub #AKK #Karneval2026 #MafiaMotto #Ahlbeck #Karnevalswochenende
URL:https://www.suffel-saffel.de/event/ganz-ahlbeck-ausser-rand-und-band-der-akk-in-mafiahand-2/
LOCATION:Hotel Esplanade\, Seestraße 5\, Seebad Heringsdorf\, MV\, 17424\, Deutschland
CATEGORIES:Veranstaltungen
ATTACH;FMTTYPE=image/jpeg:https://www.suffel-saffel.de/wp-content/uploads/2026/01/Albecker_Karneval_2026-FB-RGB-scaled.jpg
END:VEVENT
BEGIN:VEVENT
DTSTART;TZID=Europe/Paris:20260130T190000
DTEND;TZID=Europe/Paris:20260131T023000
DTSTAMP:20260420T120455
CREATED:20260110T110433Z
LAST-MODIFIED:20260110T110552Z
UID:628-1769799600-1769826600@www.suffel-saffel.de
SUMMARY:Ganz Ahlbeck außer Rand und Band - Der AKK in Mafiahand
DESCRIPTION:Der Ahlbecker Karneval Klub lädt euch zu einem stimmungsvollen Veranstaltungswochenende unter dem Motto„Ganz Ahlbeck außer Rand und Band – der AKK in Mafiahand“ ein.Freut euch auf drei Tage Karneval\, gute Unterhaltung und beste AKK-Atmosphäre! 🎉 \n📅 Freitag\, 30.01. & Samstag\, 31.01.2026🕖 Einlass ab 19:00 Uhr | Beginn 20:11 Uhr \n📅 Sonntag\, 01.02.2026 – Rentnerkarneval🕒 Beginn 15:00 Uhr \nErlebt ein abwechslungsreiches Programm\, gute Stimmung und karnevalistische Abende ganz im Zeichen unseres diesjährigen Mottos. 🥳🎭 \n🎟 Tickets:👉 Karten für alle drei Tage erhaltet ihr wie gewohnt über unsere Mitglieder. \nWir freuen uns auf euch – und auf ein Wochenende\, an dem Ahlbeck karnevalistisch außer Rand und Band gerät! 🎉🥂 \n#AhlbeckerKarnevalKlub #AKK #Karneval2026 #MafiaMotto #Ahlbeck #Karnevalswochenende
URL:https://www.suffel-saffel.de/event/ganz-ahlbeck-ausser-rand-und-band-der-akk-in-mafiahand/
LOCATION:Hotel Esplanade\, Seestraße 5\, Seebad Heringsdorf\, MV\, 17424\, Deutschland
CATEGORIES:Veranstaltungen
ATTACH;FMTTYPE=image/jpeg:https://www.suffel-saffel.de/wp-content/uploads/2026/01/Albecker_Karneval_2026-FB-RGB-scaled.jpg
END:VEVENT
BEGIN:VEVENT
DTSTART;TZID=Europe/Paris:20251115T190000
DTEND;TZID=Europe/Paris:20251116T030000
DTSTAMP:20260420T120455
CREATED:20251023T091622Z
LAST-MODIFIED:20251023T091622Z
UID:565-1763233200-1763262000@www.suffel-saffel.de
SUMMARY:Elferratssitzung mit Maskenball 15.11.2025
DESCRIPTION:Elferratssitzung des AKK – Maskenball 2025! Der Ahlbecker Karneval Klub lädt ein zu zwei unvergesslichen Abenden voller Spaß\, Tanz und bester Stimmung im Hotel Esplanade\, Seebad Heringsdorf! \n Freitag\, 14.11. & Samstag\, 15.11.2025 Einlass ab 19:00 Uhr | Beginn 20:00 Uhr\nErlebt ein mitreißendes Programm\, tolle Musik\, gute Laune und natürlich jede Menge Karnevalsflair – für musikalische Stimmung sorgt „DJ illegal 2000“! \n Tickets: Freitag: Vorverkauf 15\,50 € (über unsere Mitglieder) | Abendkasse 18 € Samstag: Einheitspreis 18 € (VVK & Abendkasse)\nSichert euch jetzt eure Karten und seid dabei\, wenn die Narren das Zepter übernehmen! #AhlbeckerKarnevalKlub #AKK #Elferrat #Maskenball #Karneval2025 #Heringsdorf #Esplanade \nWeniger anzeigen
URL:https://www.suffel-saffel.de/event/elferratssitzung-mit-maskenball-15-11-2025/
LOCATION:Hotel Esplanade\, Seestraße 5\, Seebad Heringsdorf\, MV\, 17424\, Deutschland
CATEGORIES:Veranstaltungen
ATTACH;FMTTYPE=image/jpeg:https://www.suffel-saffel.de/wp-content/uploads/2025/10/Elferratssitzung-November-2025-FB.jpg
END:VEVENT
BEGIN:VEVENT
DTSTART;TZID=Europe/Paris:20251114T190000
DTEND;TZID=Europe/Paris:20251115T020000
DTSTAMP:20260420T120455
CREATED:20251023T091152Z
LAST-MODIFIED:20251023T091419Z
UID:560-1763146800-1763172000@www.suffel-saffel.de
SUMMARY:Elferratssitzung mit Maskenball 14.11.2025
DESCRIPTION:Elferratssitzung des AKK – Maskenball 2025! Der Ahlbecker Karneval Klub lädt ein zu zwei unvergesslichen Abenden voller Spaß\, Tanz und bester Stimmung im Hotel Esplanade\, Seebad Heringsdorf! \n Freitag\, 14.11. & Samstag\, 15.11.2025 Einlass ab 19:00 Uhr | Beginn 20:00 Uhr\nErlebt ein mitreißendes Programm\, tolle Musik\, gute Laune und natürlich jede Menge Karnevalsflair – für musikalische Stimmung sorgt „DJ illegal 2000“! \n Tickets: Freitag: Vorverkauf 15\,50 € (über unsere Mitglieder) | Abendkasse 18 € Samstag: Einheitspreis 18 € (VVK & Abendkasse)\n\nSichert euch jetzt eure Karten und seid dabei\, wenn die Narren das Zepter übernehmen! #AhlbeckerKarnevalKlub #AKK #Elferrat #Maskenball #Karneval2025 #Heringsdorf #Esplanade \nWeniger anzeigen
URL:https://www.suffel-saffel.de/event/elferratssitzung-mit-maskenball/
LOCATION:Hotel Esplanade\, Seestraße 5\, Seebad Heringsdorf\, MV\, 17424\, Deutschland
CATEGORIES:Veranstaltungen
ATTACH;FMTTYPE=image/jpeg:https://www.suffel-saffel.de/wp-content/uploads/2025/10/Elferratssitzung-November-2025-FB.jpg
END:VEVENT
BEGIN:VEVENT
DTSTART;TZID=Europe/Paris:20251111T100000
DTEND;TZID=Europe/Paris:20251111T120000
DTSTAMP:20260420T120455
CREATED:20251023T092324Z
LAST-MODIFIED:20251023T092324Z
UID:567-1762855200-1762862400@www.suffel-saffel.de
SUMMARY:Sessionseröffnung mit Schlüsselübergabe am Rathaus in Ahlbeck
DESCRIPTION:🎉 Sessionseröffnung des Ahlbecker Karneval Klubs! 🎭 \nAm 11.11. um 11:11 Uhr ist es endlich wieder soweit – der AKK startet in die fünfte Jahreszeit!Traditionell treffen wir uns zur Schlüsselübergabe am Rathaus in Seebad Ahlbeck\, wo wir symbolisch den Rathausschlüssel von unserer Bürgermeisterin Laura Isabelle Marisken übernehmen und damit die närrische Herrschaft übernehmen! 🤩🔑 \nVorher ziehen wir mit Musik\, Kostümen und bester Laune durch die Straßen von Ahlbeck und verbreiten karnevalistische Stimmung im ganzen Ort. Kommt vorbei\, feiert mit uns und stimmt euch gemeinsam mit dem AKK auf eine tolle Session ein! 🎺🥳 \nSuffel Saffel – rin!
URL:https://www.suffel-saffel.de/event/sessionseroeffnung-mit-schluesseluebergabe-am-rathaus-in-ahlbeck/
LOCATION:Rathaus Seebad Ahlbeck\, Kurparkstraße 4\, Seebad Heringsdorf\, MV\, 17419\, Germany
END:VEVENT
BEGIN:VEVENT
DTSTART;TZID=Europe/Paris:20250223T150000
DTEND;TZID=Europe/Paris:20250223T190000
DTSTAMP:20260420T120455
CREATED:20250210T151844Z
LAST-MODIFIED:20250210T151844Z
UID:550-1740322800-1740337200@www.suffel-saffel.de
SUMMARY:Rentnerfasching - Der AKK im Zirkuszelt - SEETELHOTEL Villa Esplande
DESCRIPTION:Am 23.02.2025 veranstalten wir im Seetelhotel – Villa Esplanade unter dem Motto “Der AKK im Zirkuszelt!” unsere diesjährigen Rentnerfasching. Hier wird auch das Geheimnis um die Prinzessin unseres Prinzen Sven d. I. gelüftet.Wir möchten unsere Gäste recht herzlich zu einer bunten Mischung aus Tanz-\, Musik-\, Sketch- und regional politischer Unterhaltung willkommen heißen.Der Einlass beginnt ab 14:00 Uhr.Anschließend starten wir ab ca. 15 Uhr mit unserem Programm.Für musikalische Unterhaltung sorgt DJ Illegal 2000.Alle Veranstaltungen finden im historischen Festsaal des Seetelhotel Villa Esplanade in Heringsdorf statt.Tickets gibt es an der Abendkasse oder über die Mitglieder des Klubs.Die Mitglieder des Ahlbecker Karneval Klubs freuen sich auf viele lustige Närrinnen und Narren in bunten Kostümen.Wir weisen darauf hin\, dass von der Veranstaltung Bild-\, Ton und Videoaufnahmen angefertigt werden können.SUFFEL-SAFFEL RIN
URL:https://www.suffel-saffel.de/event/rentnerfasching-der-akk-im-zirkuszelt-seetelhotel-villa-esplande/
LOCATION:Hotel Esplanade\, Seestraße 5\, Seebad Heringsdorf\, MV\, 17424\, Deutschland
CATEGORIES:Veranstaltungen
ATTACH;FMTTYPE=image/jpeg:https://www.suffel-saffel.de/wp-content/uploads/2025/02/Ahlbecker-Karneval-2025_Facebook.jpg
END:VEVENT
BEGIN:VEVENT
DTSTART;TZID=Europe/Paris:20250222T200000
DTEND;TZID=Europe/Paris:20250223T030000
DTSTAMP:20260420T120455
CREATED:20250210T151608Z
LAST-MODIFIED:20250210T151631Z
UID:548-1740254400-1740279600@www.suffel-saffel.de
SUMMARY:Der AKK im Zirkuszelt - SEETELHOTEL Villa Esplanade
DESCRIPTION:Vom 21.02.2025 bis 23.02.2025 veranstalten wir im Seetelhotel – Villa Esplanade unter dem Motto “Der AKK im Zirkuszelt!” unsere diesjährigen Faschingsveranstaltungen. Hier wird auch das Geheimnis um die Prinzessin unseres Prinzen Sven d. I. gelüftet.Wir möchten unsere Gäste recht herzlich zu einer bunten Mischung aus Tanz-\, Musik-\, Sketch- und regional politischer Unterhaltung willkommen heißen.Der Einlass beginnt ab 19:00 Uhr.Anschließend starten wir ab ca. 20 Uhr mit unserem Programm.Für musikalische Unterhaltung sorgt DJ Illegal 2000.Alle Veranstaltungen finden im historischen Festsaal des Seetelhotel Villa Esplanade in Heringsdorf statt.Tickets gibt es an der Abendkasse oder über die Mitglieder des Klubs.Die Mitglieder des Ahlbecker Karneval Klubs freuen sich auf viele lustige Närrinnen und Narren in bunten Kostümen.Wir weisen darauf hin\, dass von der Veranstaltung Bild-\, Ton und Videoaufnahmen angefertigt werden können.SUFFEL-SAFFEL RIN
URL:https://www.suffel-saffel.de/event/der-akk-im-zirkuszelt-seetelhotel-villa-esplanade-2/
LOCATION:Hotel Esplanade\, Seestraße 5\, Seebad Heringsdorf\, MV\, 17424\, Deutschland
CATEGORIES:Veranstaltungen
ATTACH;FMTTYPE=image/jpeg:https://www.suffel-saffel.de/wp-content/uploads/2025/02/Ahlbecker-Karneval-2025_Facebook.jpg
END:VEVENT
BEGIN:VEVENT
DTSTART;TZID=Europe/Paris:20250221T200000
DTEND;TZID=Europe/Paris:20250222T030000
DTSTAMP:20260420T120455
CREATED:20250210T151248Z
LAST-MODIFIED:20250210T151430Z
UID:545-1740168000-1740193200@www.suffel-saffel.de
SUMMARY:Der AKK im Zirkuszelt - SEETELHOTEL Villa Esplanade
DESCRIPTION:Vom 21.02.2025 bis 23.02.2025 veranstalten wir im Seetelhotel – Villa Esplanade unter dem Motto “Der AKK im Zirkuszelt!” unsere diesjährigen Faschingsveranstaltungen. Hier wird auch das Geheimnis um die Prinzessin unseres Prinzen Sven d. I. gelüftet.Wir möchten unsere Gäste recht herzlich zu einer bunten Mischung aus Tanz-\, Musik-\, Sketch- und regional politischer Unterhaltung willkommen heißen.Der Einlass beginnt ab 19:00 Uhr.Anschließend starten wir ab ca. 20 Uhr mit unserem Programm.Für musikalische Unterhaltung sorgt DJ Illegal 2000.Alle Veranstaltungen finden im historischen Festsaal des Seetelhotel Villa Esplanade in Heringsdorf statt.Tickets gibt es an der Abendkasse oder über die Mitglieder des Klubs.Die Mitglieder des Ahlbecker Karneval Klubs freuen sich auf viele lustige Närrinnen und Narren in bunten Kostümen.Wir weisen darauf hin\, dass von der Veranstaltung Bild-\, Ton und Videoaufnahmen angefertigt werden können.SUFFEL-SAFFEL RIN
URL:https://www.suffel-saffel.de/event/der-akk-im-zirkuszelt-seetelhotel-villa-esplanade/
LOCATION:Hotel Esplanade\, Seestraße 5\, Seebad Heringsdorf\, MV\, 17424\, Deutschland
CATEGORIES:Veranstaltungen
ATTACH;FMTTYPE=image/jpeg:https://www.suffel-saffel.de/wp-content/uploads/2025/02/Ahlbecker-Karneval-2025_Facebook.jpg
END:VEVENT
BEGIN:VEVENT
DTSTART;TZID=Europe/Paris:20241116T190000
DTEND;TZID=Europe/Paris:20241117T030000
DTSTAMP:20260420T120455
CREATED:20241108T094635Z
LAST-MODIFIED:20241108T094635Z
UID:484-1731783600-1731812400@www.suffel-saffel.de
SUMMARY:Elferratssitzung mit Maskenball 16.11.2024
DESCRIPTION:Am 16.11.24 findet gegen 20 Uhr unsere 2. Elferratssitzung mit Maskenball im historischen Festsaal des Hotel Esplanade statt. \nEs erwarten euch vielfältige Programmteile aus Tanz-\, Show-\, und Sketchdarbietungen sowie Musik und Live-Gesang. \nEinlass ist ab 19 Uhr. \nBeginn des Programms 20 Uhr. \nDie Karten kosten im Vorverkauf sowie an der Abendkasse 18 €. \nKarten sind über die Mitglieder des AKK erhältlich.
URL:https://www.suffel-saffel.de/event/elferratssitzung-mit-maskenball-16-11-2024/
LOCATION:Hotel Esplanade\, Seestraße 5\, Seebad Heringsdorf\, MV\, 17424\, Deutschland
CATEGORIES:Veranstaltungen
ATTACH;FMTTYPE=image/jpeg:https://www.suffel-saffel.de/wp-content/uploads/2024/11/AKKNovember2024facebook.jpg
END:VEVENT
BEGIN:VEVENT
DTSTART;TZID=Europe/Paris:20241115T190000
DTEND;TZID=Europe/Paris:20241116T030000
DTSTAMP:20260420T120455
CREATED:20241108T094519Z
LAST-MODIFIED:20241108T094519Z
UID:481-1731697200-1731726000@www.suffel-saffel.de
SUMMARY:Elferratssitzung mit Maskenball 15.11.2024
DESCRIPTION:Am 15.11.24 findet gegen 20 Uhr unsere 1. Elferratssitzung mit Maskenball im historischen Festsaal des Hotel Esplanade statt. \nEs erwarten euch vielfältige Programmteile aus Tanz-\, Show-\, und Sketchdarbietungen sowie Musik und Live-Gesang. \nEinlass ist ab 19 Uhr. \nBeginn des Programms 20 Uhr. \nDie Karten kosten im Vorverkauf sowie an der Abendkasse 18 €. \nKarten sind über die Mitglieder des AKK erhältlich.
URL:https://www.suffel-saffel.de/event/elferratssitzung-mit-maskenball-15-11-2024/
LOCATION:Hotel Esplanade\, Seestraße 5\, Seebad Heringsdorf\, MV\, 17424\, Deutschland
CATEGORIES:Veranstaltungen
ATTACH;FMTTYPE=image/jpeg:https://www.suffel-saffel.de/wp-content/uploads/2024/11/AKKNovember2024facebook.jpg
END:VEVENT
BEGIN:VEVENT
DTSTART;TZID=Europe/Paris:20241111T100000
DTEND;TZID=Europe/Paris:20241111T120000
DTSTAMP:20260420T120455
CREATED:20241108T094212Z
LAST-MODIFIED:20241108T094212Z
UID:478-1731319200-1731326400@www.suffel-saffel.de
SUMMARY:Sessionseröffnung mit Schlüsselübergabe am Rathaus Ahlbeck
DESCRIPTION:Am 11.11. um 11:11 Uhr übernehmen wir wieder das Zepter im Rathaus der Gemeinde.\nDie Schlüsselübergabe findet nach unserem um 10 Uhr beginnenden Umzug durch Seebad Ahlbeck vor dem Rathaus in Ahlbeck statt.\nAnschließend führen wir dort einen Teil unseres Programms auf und hoffen auf zahlreiche Besucher und vor allem herbstliches Kaiserwetter mit Sonne satt.
URL:https://www.suffel-saffel.de/event/sessionseroeffnung-mit-schluesseluebergabe-am-rathaus-ahlbeck/
LOCATION:Rathaus Seebad Ahlbeck\, Kurparkstraße 4\, Seebad Heringsdorf\, MV\, 17419\, Germany
CATEGORIES:Veranstaltungen
END:VEVENT
BEGIN:VEVENT
DTSTART;TZID=Europe/Paris:20240224T100000
DTEND;TZID=Europe/Paris:20240224T163000
DTSTAMP:20260420T120455
CREATED:20240209T233422Z
LAST-MODIFIED:20240209T233448Z
UID:464-1708768800-1708792200@www.suffel-saffel.de
SUMMARY:Großer Festumzug am 24.02.24 durch Seebad Ahlbeck
DESCRIPTION:Wir feiern unser 50. Jubiläum mit einem großen Festumzug durch Seebad Ahlbeck und anschließendem Programm auf dem Konzertplatz in Seebad Ahlbeck. \nSammelpunkt für die Wagen 10 Uhr Saarstraße/Friedrich-Ebert-Ring \nBeginn des Umzug: 11:11 Uhr Ahlbeck Saarstraße/Ecke Kaiserstraße \ngeplante Route über die Kaiserstraße\, Kurparkstraße\, Dünenstraße\, Strandstraße\, Schulzenstraße\, Dünenstraße Richtung Konzertplatz \nca. 12:30 Uhr anschließendes Programm auf dem Konzertplatz in Seebad Ahlbeck
URL:https://www.suffel-saffel.de/event/festumzug-am-24-02-24-durch-seebad-ahlbeck/
LOCATION:MV
CATEGORIES:Veranstaltungen
END:VEVENT
BEGIN:VEVENT
DTSTART;TZID=Europe/Paris:20240204T150000
DTEND;TZID=Europe/Paris:20240204T190000
DTSTAMP:20260420T120455
CREATED:20231103T215425Z
LAST-MODIFIED:20231103T221711Z
UID:305-1707058800-1707073200@www.suffel-saffel.de
SUMMARY:Jubiläumsveranstaltung 50 Jahre AKK - Rentnerfasching
DESCRIPTION:Unser Verein wird 50 Jahre und das wollen wir gebührend mit euch feiern. \nAm 04.02.24 findet gegen 15 Uhr unsere 3. Galaveranstaltung für die Senioren im historischen Festsaal des Hotel Esplanade statt. \nEs erwarten euch vielfältige Programmteile aus Tanz-\, Show-\, und Sketchdarbietungen sowie Musik und Live-Gesang. \nEinlass ist ab 14 Uhr. \nBeginn des Programms 15 Uhr.
URL:https://www.suffel-saffel.de/event/jubilaeumsveranstaltung-50-jahre-akk-rentnerfasching/
LOCATION:Hotel Esplanade\, Seestraße 5\, Seebad Heringsdorf\, MV\, 17424\, Deutschland
CATEGORIES:Veranstaltungen
END:VEVENT
BEGIN:VEVENT
DTSTART;TZID=Europe/Paris:20240203T200000
DTEND;TZID=Europe/Paris:20240204T030000
DTSTAMP:20260420T120455
CREATED:20231103T215242Z
LAST-MODIFIED:20231103T221711Z
UID:303-1706990400-1707015600@www.suffel-saffel.de
SUMMARY:Jubiläumsveranstaltung 50 Jahre AKK
DESCRIPTION:Unser Verein wird 50 Jahre und das wollen wir gebührend mit euch feiern. \nAm 03.02.24 findet gegen 20 Uhr unsere 2. Galaveranstaltung im historischen Festsaal des Hotel Esplanade statt. \nEs erwarten euch vielfältige Programmteile aus Tanz-\, Show-\, und Sketchdarbietungen sowie Musik und Live-Gesang. \nEinlass ist ab 19 Uhr. \nBeginn des Programms 20 Uhr. \nEs besteht für alle Veranstaltungen Kostümpflicht. \nDie Karten kosten im Vorverkauf sowie an der Abendkasse 15 €. \nKarten sind über die Mitglieder des AKK erhältlich.
URL:https://www.suffel-saffel.de/event/jubilaeumsveranstaltung-50-jahre-akk-2/
LOCATION:Hotel Esplanade\, Seestraße 5\, Seebad Heringsdorf\, MV\, 17424\, Deutschland
CATEGORIES:Veranstaltungen
END:VEVENT
BEGIN:VEVENT
DTSTART;TZID=Europe/Paris:20240202T200000
DTEND;TZID=Europe/Paris:20240203T030000
DTSTAMP:20260420T120455
CREATED:20231103T215125Z
LAST-MODIFIED:20231103T221711Z
UID:301-1706904000-1706929200@www.suffel-saffel.de
SUMMARY:Jubiläumsveranstaltung 50 Jahre AKK
DESCRIPTION:Unser Verein wird 50 Jahre und das wollen wir gebührend mit euch feiern. \nAm 02.02.24 findet gegen 20 Uhr unsere 1. Galaveranstaltung im historischen Festsaal des Hotel Esplanade statt. \nEs erwarten euch vielfältige Programmteile aus Tanz-\, Show-\, und Sketchdarbietungen sowie Musik und Live-Gesang. \nEinlass ist ab 19 Uhr. \nBeginn des Programms 20 Uhr. \nEs besteht für alle Veranstaltungen Kostümpflicht. \nDie Karten kosten im Vorverkauf sowie an der Abendkasse 15 €. \nKarten sind über die Mitglieder des AKK erhältlich. \n 
URL:https://www.suffel-saffel.de/event/jubilaeumsveranstaltung-50-jahre-akk/
LOCATION:Hotel Esplanade\, Seestraße 5\, Seebad Heringsdorf\, MV\, 17424\, Deutschland
CATEGORIES:Veranstaltungen
END:VEVENT
BEGIN:VEVENT
DTSTART;TZID=Europe/Paris:20231118T200000
DTEND;TZID=Europe/Paris:20231119T030000
DTSTAMP:20260420T120455
CREATED:20231103T214302Z
LAST-MODIFIED:20231103T221711Z
UID:295-1700337600-1700362800@www.suffel-saffel.de
SUMMARY:Elferratssitzung mit Maskenball 18.11.2023
DESCRIPTION:Elferratssitzung des AKK mit Maskenball \nEs erwarten euch vielfältige Programmteile aus Tanz-\, Show-\, und Sketchdarbietungen sowie Musik und Live-Gesang. \nEinlass ist ab 19 Uhr. \nBeginn des Programms 20 Uhr. \nEs besteht für alle Veranstaltungen Kostümpflicht. \nDie Karten kosten im Vorverkauf sowie an der Abendkasse 15 €. \nKarten sind über die Mitglieder des AKK erhältlich.
URL:https://www.suffel-saffel.de/event/elferratssitzung-mit-maskenball-18-11-2023/
LOCATION:Hotel Esplanade\, Seestraße 5\, Seebad Heringsdorf\, MV\, 17424\, Deutschland
CATEGORIES:Veranstaltungen
END:VEVENT
BEGIN:VEVENT
DTSTART;TZID=Europe/Paris:20231117T200000
DTEND;TZID=Europe/Paris:20231118T200000
DTSTAMP:20260420T120455
CREATED:20231002T205014Z
LAST-MODIFIED:20231103T221712Z
UID:11-1700251200-1700337600@www.suffel-saffel.de
SUMMARY:Elferratssitzung mit Maskenball am 17.11.2023
DESCRIPTION:Elferratssitzung des AKK mit Maskenball \nEs erwarten euch vielfältige Programmteile aus Tanz-\, Show-\, und Sketchdarbietungen sowie Musik und Live-Gesang. \nEinlass ist ab 19 Uhr. \nBeginn des Programms 20 Uhr. \nEs besteht für alle Veranstaltungen Kostümpflicht. \nDie Karten kosten im Vorverkauf sowie an der Abendkasse 15 €. \nKarten sind über die Mitglieder des AKK erhältlich.
URL:https://www.suffel-saffel.de/event/elferratssitzung-mit-maskenball-am-17-11-2023/
LOCATION:Hotel Esplanade\, Seestraße 5\, Seebad Heringsdorf\, MV\, 17424\, Deutschland
CATEGORIES:Veranstaltungen
END:VEVENT
BEGIN:VEVENT
DTSTART;TZID=Europe/Paris:20231111T110000
DTEND;TZID=Europe/Paris:20231111T140000
DTSTAMP:20260420T120455
CREATED:20231103T214713Z
LAST-MODIFIED:20231103T221712Z
UID:298-1699700400-1699711200@www.suffel-saffel.de
SUMMARY:Auftaktveranstaltung 11.11.2023 Konzertplatz Seebad Ahlbeck
DESCRIPTION:Am 11.11. um 11:11 Uhr übernehmen wir wieder das Zepter im Rathaus der Gemeinde.\nDie Schlüsselübergabe findet nach unserem um 10 Uhr beginnenden Umzug durch Seebad Ahlbeck auf dem Konzertplatz\, mit musikalischer Unterstützung durch DJ Onkel Jürgen\, statt.\nWir lassen uns überraschen wer den Schlüssel letztlich an uns übergibt. Anschließend führen wir dort einen Teil unseres Programms auf und hoffen auf zahlreiche Besucher und vor allem herbstliches Kaiserwetter mit Sonne satt.
URL:https://www.suffel-saffel.de/event/auftaktveranstaltung-11-11-2023-konzertplatz-seebad-ahlbeck/
LOCATION:Konzertplatz Seebad Ahlbeck\, Promenade 12\, Seebad Heringsdorf\, MV\, 17419\, Deutschland
CATEGORIES:Veranstaltungen
END:VEVENT
END:VCALENDAR